Workbook

Sheet Прилож2 2020
D1: Приложение №2
D2: к Постановлению Администрации № 43 от 20.07.2020 г. Сабанчеевского сельского поселения "Об исполнении бюджета Сабанчеевского сельского поселения за 2 квартал 2020г"
A4: Распределение бюджетных ассигнований бюджета Сабанчеевского сельского поселения по разделам, подразделам, целевым статьям (муниципальным программам и непрограммным направлениям деятельности), группам (группам и подгруппам) видов расходов классификации расходов бюджетов за 2 квартал 2020 года.
A6: Наименование | B6: АДМ | C6: Рз | D6: ПРз | E6: ЦСР | I6: ВР | J6: Сумма | K6: 2020 год | L6: 2010 | M6: 2011 | O6: были | Q6: было
A7: Социальная поддержка отдельных категорий населения | C7: 01 | D7: 01
A8: Пенсионное обеспечение | C8: 01 | D8: 01 | I8: 005
A9: Администрация Сабанчеевского сельского поселения | B9: 915
A10: Общегосударственные вопросы | B10: 915 | C10: 01 | J10: =J11 -> 0 | K10: =K11+K33+K68+K77+K63 -> 1241.7 | L10: =L11 -> #REF! | M10: =M11 -> #REF! | N10: =N11 -> #REF! | O10: =O20+O22+#REF! -> #REF! | P10: =K10-O10 -> #REF! | Q10: =Q20+Q22+#REF! -> #REF! | R10: =K10-Q10 -> #REF!
A11: Глава местной администрации (исполнительно-распорядительного органа муниципального образования) | B11: 915 | C11: 01 | D11: 02 | J11: =J20 -> 0 | K11: =K12+K27 -> 184.1 | L11: =L20+#REF! -> #REF! | M11: =M20+#REF! -> #REF! | N11: =N20+#REF! -> #REF! | O11: =668.5-O60 -> 482.5 | P11: =K11-O11 -> -298.4 | Q11: 862.3 | R11: =K11-Q11 -> -678.2
A12: Муниципальная программа Сабанчеевского сельского поселения "Повышение эффективности муниципального управления Сабанчеевского сельского поселения Атяшевского муниципального района Республики Мордовия на 2016-2022 годы" | B12: 915 | C12: 01 | D12: 02 | E12: 01 | F12: 0 | K12: =K13 -> 184.1
A13: Подпрограмма "Обеспечение деятельности Администрации Сабанчеево сельского поселения" | B13: 915 | C13: 01 | D13: 02 | E13: 01 | F13: 1 | K13: =K14 -> 184.1
A14: Основное мероприятие "Обеспечение деятельности Администрации Сабанчеевского сельского поселения" | B14: 915 | C14: 01 | D14: 02 | E14: 01 | F14: 1 | G14: 01 | K14: =K15+K24 -> 184.1
A15: Расходы, связанные с муниципальным управлением | B15: 915 | C15: 01 | D15: 02 | E15: 01 | F15: 1 | G15: 01 | H15: 41000 | K15: =K16 -> 184.1
A16: Расходы на выплаты по оплате труда Главы местной администрации (исполнительно-распорядительного органа муниципального образования) | B16: 915 | C16: 01 | D16: 02 | E16: 01 | F16: 1 | G16: 01 | H16: 41150 | K16: =K17+K23 -> 184.1
A17: Фонд оплаты труда государственных (муниципальных) органов | B17: 915 | C17: 01 | D17: 02 | E17: 01 | F17: 1 | G17: 01 | H17: 41150 | I17: 121 | K17: 148.8
A18: Расходы на обеспечение функций органов местного самоуправления | B18: 915 | C18: 01 | D18: 02 | E18: 89 | F18: 1 | H18: 4112 | K18: =K19 -> 0
A19: Иные выплаты персоналу государственных (муниципальных) органов, за исключением фонда оплаты труда | B19: 915 | C19: 01 | D19: 02 | E19: 89 | F19: 1 | H19: 4112 | I19: 122
B20: 915 | L20: =L21 -> #REF! | M20: =M21 -> #REF! | N20: =N21 -> #REF! | O20: =O11-O22 -> 482.5 | P20: =K20-O20 -> -482.5 | Q20: =Q11-Q22 -> 862.3 | R20: =K20-Q20 -> -862.3
A21: Выполнение функций органами местного самоуправления | B21: 915 | C21: 01 | D21: 04 | I21: 500 | J21: =#REF!+#REF!+#REF!+#REF!+#REF!+#REF!+#REF!+#REF!+#REF!+#REF! -> #REF! | L21: =#REF!+#REF!+#REF!+#REF!+#REF!+#REF!+#REF!+#REF!+#REF!+#REF! -> #REF! | M21: =#REF!+#REF!+#REF!+#REF!+#REF!+#REF!+#REF!+#REF!+#REF!+#REF! -> #REF! | N21: =#REF!+#REF!+#REF!+#REF!+#REF!+#REF!+#REF!+#REF!+#REF!+#REF! -> #REF! | P21: =K21-O21 -> 0 | R21: =K21-Q21 -> 0
A22: Уплата налога на имущество и земельного налога | B22: 915 | C22: 01 | D22: 04 | J22: =#REF! -> #REF! | L22: =#REF! -> #REF! | M22: =#REF! -> #REF! | N22: =#REF! -> #REF! | P22: =K22-O22 -> 0 | R22: =K22-Q22 -> 0
A23: Взносы по обязательному социальному страхованию на выплаты денежного содержания и иные выплаты работникам государственных (муниципальных) органов | B23: 915 | C23: 01 | D23: 02 | E23: 01 | F23: 1 | G23: 01 | H23: 41150 | I23: 129 | K23: 35.3
A24: Субсидии на софинансирование расходных обязательств по финансовому обеспечению деятельности органов местного самоуправления и муниципальных учреждений | C24: 01 | D24: 02 | E24: 01 | F24: 1 | G24: 01 | H24: 44205 | K24: =K25+K26 -> 0
A25: Фонд оплаты труда государственных (муниципальных) органов | C25: 01 | D25: 02 | E25: 01 | F25: 1 | G25: 01 | H25: 44205 | I25: 121
A26: Взносы по обязательному социальному страхованию на выплаты денежного содержания и иные выплаты работникам государственных (муниципальных) органов | C26: 01 | D26: 02 | E26: 01 | F26: 1 | G26: 01 | H26: 44205 | I26: 129
A27: Непрограммные расходы главных распорядителей бюджетных средств местного бюджета | B27: 915 | C27: 01 | D27: 02 | E27: 01 | F27: 0 | J27: =J28 -> 0 | K27: =K28 -> 0
A28: Непрограммные расходы в рамках обеспечения деятельности главных распорядителей бюджетных средств местного бюджета | B28: 915 | C28: 01 | D28: 02 | E28: 01 | F28: 1 | J28: =J29 -> 0 | K28: =K29 -> 0
A29: Софинансирование расходных обязательств, возникающих при выполнении полномочий органов местного самоуправления по вопросам местного значения | B29: 915 | C29: 01 | D29: 02 | E29: 01 | F29: 1 | G29: 00 | H29: 76000 | J29: =J30+J32 -> 0 | K29: =K30 -> 0
A30: Софинансирование расходных обязательств поселений по финансовому обеспечению деятельности муниципальных казенных учреждений и финансовому обеспечению выполнения муниципального задания бюджетными и автономными муниципальными учреждениями | B30: 915 | C30: 01 | D30: 02 | E30: 01 | F30: 1 | G30: 00 | H30: 76010 | J30: =J31 -> 0 | K30: =K31+K32 -> 0
A31: Фонд оплаты труда государственных (муниципальных) органов | B31: 915 | C31: 01 | D31: 02 | E31: 01 | F31: 1 | G31: 00 | H31: 76010 | I31: 121
A32: Взносы по обязательному социальному страхованию на выплаты денежного содержания и иные выплаты работникам государственных (муниципальных) органов | B32: 915 | C32: 01 | D32: 02 | E32: 01 | F32: 1 | G32: 00 | H32: 76010 | I32: 129
A33: Функционирование Правительства Российской Федерации, высших исполнительных органов государственной власти субъектов Российской Федерации, местных администраций | B33: 915 | C33: 01 | D33: 04 | K33: =K34+K56 -> 1057.6
A34: Муниципальная программаСабанчеевского сельского поселения "Повышение эффективности муниципального управления Сабанчеевского сельского поселения на 2016-2024 годы | B34: 915 | C34: 01 | D34: 04 | E34: 01 | F34: 0 | K34: =K35 -> 1057.6
A35: Подпрограмма "Обеспечение деятельности Администрации Сабанчеевского сельского поселения" | B35: 915 | C35: 01 | D35: 04 | E35: 01 | F35: 1 | J35: 340 | K35: =K36 -> 1057.6
A36: Основное мероприятие "Обеспечение деятельности Администрации Сабанчеевского сельского поселения" | B36: 915 | C36: 01 | D36: 04 | E36: 01 | F36: 1 | G36: 01 | K36: =K37+K51+K47 -> 1057.6
A37: Расходы, связанные с муниципальным управлением | B37: 915 | C37: 01 | D37: 04 | E37: 01 | F37: 1 | G37: 01 | H37: 41000 | K37: =K38+K41 -> 857
A38: Расходы на выплаты по оплате труда работников органов местного самоуправления | B38: 915 | C38: 01 | D38: 04 | E38: 01 | F38: 1 | G38: 01 | H38: 41110 | K38: =K39+K40 -> 689.1
A39: Фонд оплаты труда государственных (муниципальных) органов | B39: 915 | C39: 01 | D39: 04 | E39: 01 | F39: 1 | G39: 01 | H39: 41110 | I39: 121 | K39: 515
A40: Взносы по обязательному социальному страхованию на выплаты денежного содержания и иные выплаты работникам государственных (муниципальных) органов | B40: 915 | C40: 01 | D40: 04 | E40: 01 | F40: 1 | G40: 01 | H40: 41110 | I40: 129 | K40: 174.1
A41: Расходы на обеспечение функций органов местного самоуправления | B41: 915 | C41: 01 | D41: 04 | E41: 01 | F41: 1 | G41: 01 | H41: 41120 | K41: =K42+K43+K44+K45+K46 -> 167.9
A42: Иные выплаты персоналу государственных(муниципальных) органов, за исключением фонда оплаты труда | B42: 915 | C42: 01 | D42: 04 | E42: 01 | F42: 1 | G42: 01 | H42: 41120 | I42: 122
...

Sheet Лист2
D1: Приложение № 3
D2: к Постановлению № 43 от 20.07.2020 г. Администрации Сабанчеевского сельского поселения "Об исполнении бюджета Сабанчеевского сельского поселения за 2 квартал 2020г"
A4: Ведомственная структура расходов бюджета Сабанчеевского сельского поселения за 2 квартал 2020 года
A6: Наименование | B6: АДМ | C6: Рз | D6: ПРз | E6: ЦСР | I6: ВР | J6: Сумма | K6: 2020 год
A7: Социальная поддержка отдельных категорий населения | C7: 01 | D7: 01
A8: Пенсионное обеспечение | C8: 01 | D8: 01 | I8: 005
A9: Администрация Сабанчеевского сельского поселения | B9: 926
A10: Общегосударственные вопросы | B10: 926 | C10: 01 | J10: =J11 -> 0 | K10: =K11+K33+K68+K77+K63 -> 1241.7
A11: Глава местной администрации (исполнительно-распорядительного органа муниципального образования) | B11: 926 | C11: 01 | D11: 02 | J11: =J20 -> 0 | K11: =K12+K27 -> 184.1
A12: Муниципальная программа Сабанчеевского сельского поселения "Повышение эффективности муниципального управления Сабанчеевского сельского поселения Атяшевского муниципального района Республики Мордовия на 2016-2022 годы" | B12: 926 | C12: 01 | D12: 02 | E12: 01 | F12: 0 | K12: =K13 -> 184.1
A13: Подпрограмма "Обеспечение деятельности Администрации Сабанчеевского сельского поселения" | B13: 926 | C13: 01 | D13: 02 | E13: 01 | F13: 1 | K13: =K14 -> 184.1
A14: Основное мероприятие "Обеспечение деятельности Администрации Сабанчеевского сельского поселения" | B14: 926 | C14: 01 | D14: 02 | E14: 01 | F14: 1 | G14: 01 | K14: =K15+K24 -> 184.1
A15: Расходы, связанные с муниципальным управлением | B15: 926 | C15: 01 | D15: 02 | E15: 01 | F15: 1 | G15: 01 | H15: 41000 | K15: =K16 -> 184.1
A16: Расходы на выплаты по оплате труда Главы местной администрации (исполнительно-распорядительного органа муниципального образования) | B16: 926 | C16: 01 | D16: 02 | E16: 01 | F16: 1 | G16: 01 | H16: 41150 | K16: =K17+K23 -> 184.1
A17: Фонд оплаты труда государственных (муниципальных) органов | B17: 926 | C17: 01 | D17: 02 | E17: 01 | F17: 1 | G17: 01 | H17: 41150 | I17: 121 | K17: 148.8
A18: Расходы на обеспечение функций органов местного самоуправления | B18: 915 | C18: 01 | D18: 02 | E18: 89 | F18: 1 | H18: 4112 | K18: =K19 -> 0
A19: Иные выплаты персоналу государственных (муниципальных) органов, за исключением фонда оплаты труда | B19: 915 | C19: 01 | D19: 02 | E19: 89 | F19: 1 | H19: 4112 | I19: 122
B20: 915
A21: Выполнение функций органами местного самоуправления | B21: 915 | C21: 01 | D21: 04 | I21: 500 | J21: =#REF!+#REF!+#REF!+#REF!+#REF!+#REF!+#REF!+#REF!+#REF!+#REF! -> #REF!
A22: Уплата налога на имущество и земельного налога | B22: 915 | C22: 01 | D22: 04 | J22: =#REF! -> #REF!
A23: Взносы по обязательному социальному страхованию на выплаты денежного содержания и иные выплаты работникам государственных (муниципальных) органов | B23: 926 | C23: 01 | D23: 02 | E23: 01 | F23: 1 | G23: 01 | H23: 41150 | I23: 129 | K23: 35.3
A24: Субсидии на софинансирование расходных обязательств по финансовому обеспечению деятельности органов местного самоуправления и муниципальных учреждений | B24: 926 | C24: 01 | D24: 02 | E24: 01 | F24: 1 | G24: 01 | H24: 44205 | K24: =K25+K26 -> 0
A25: Фонд оплаты труда государственных (муниципальных) органов | B25: 926 | C25: 01 | D25: 02 | E25: 01 | F25: 1 | G25: 01 | H25: 44205 | I25: 121
A26: Взносы по обязательному социальному страхованию на выплаты денежного содержания и иные выплаты работникам государственных (муниципальных) органов | B26: 926 | C26: 01 | D26: 02 | E26: 01 | F26: 1 | G26: 01 | H26: 44205 | I26: 129
A27: Непрограммные расходы главных распорядителей бюджетных средств местного бюджета | B27: 926 | C27: 01 | D27: 02 | E27: 01 | F27: 0 | J27: =J28 -> 0 | K27: =K28 -> 0
A28: Непрограммные расходы в рамках обеспечения деятельности главных распорядителей бюджетных средств местного бюджета | B28: 926 | C28: 01 | D28: 02 | E28: 01 | F28: 1 | J28: =J29 -> 0 | K28: =K29 -> 0
A29: Софинансирование расходных обязательств, возникающих при выполнении полномочий органов местного самоуправления по вопросам местного значения | B29: 926 | C29: 01 | D29: 02 | E29: 01 | F29: 1 | G29: 00 | H29: 76000 | J29: =J30+J32 -> 0 | K29: =K30 -> 0
A30: Софинансирование расходных обязательств поселений по финансовому обеспечению деятельности муниципальных казенных учреждений и финансовому обеспечению выполнения муниципального задания бюджетными и автономными муниципальными учреждениями | B30: 926 | C30: 01 | D30: 02 | E30: 01 | F30: 1 | G30: 00 | H30: 76010 | J30: =J31 -> 0 | K30: =K31+K32 -> 0
A31: Фонд оплаты труда государственных (муниципальных) органов | B31: 926 | C31: 01 | D31: 02 | E31: 01 | F31: 1 | G31: 00 | H31: 76010 | I31: 121
A32: Взносы по обязательному социальному страхованию на выплаты денежного содержания и иные выплаты работникам государственных (муниципальных) органов | B32: 926 | C32: 01 | D32: 02 | E32: 01 | F32: 1 | G32: 00 | H32: 76010 | I32: 129
A33: Функционирование Правительства Российской Федерации, высших исполнительных органов государственной власти субъектов Российской Федерации, местных администраций | B33: 926 | C33: 01 | D33: 04 | K33: =K34+K56 -> 1057.6
A34: Муниципальная программаСабанчеевского сельского поселения "Повышение эффективности муниципального управления Сабанчеевского сельского поселения на 2016-2024 годы | B34: 926 | C34: 01 | D34: 04 | E34: 01 | F34: 0 | K34: =K35 -> 1057.6
A35: Подпрограмма "Обеспечение деятельности Администрации Сабанчеевского сельского поселения" | B35: 926 | C35: 01 | D35: 04 | E35: 01 | F35: 1 | J35: 340 | K35: =K36 -> 1057.6
A36: Основное мероприятие "Обеспечение деятельности Администрации Сабанчеевского сельского поселения" | B36: 926 | C36: 01 | D36: 04 | E36: 01 | F36: 1 | G36: 01 | K36: =K37+K51+K47 -> 1057.6
A37: Расходы, связанные с муниципальным управлением | B37: 926 | C37: 01 | D37: 04 | E37: 01 | F37: 1 | G37: 01 | H37: 41000 | K37: =K38+K41 -> 857
A38: Расходы на выплаты по оплате труда работников органов местного самоуправления | B38: 926 | C38: 01 | D38: 04 | E38: 01 | F38: 1 | G38: 01 | H38: 41110 | K38: =K39+K40 -> 689.1
A39: Фонд оплаты труда государственных (муниципальных) органов | B39: 926 | C39: 01 | D39: 04 | E39: 01 | F39: 1 | G39: 01 | H39: 41110 | I39: 121 | K39: 515
A40: Взносы по обязательному социальному страхованию на выплаты денежного содержания и иные выплаты работникам государственных (муниципальных) органов | B40: 926 | C40: 01 | D40: 04 | E40: 01 | F40: 1 | G40: 01 | H40: 41110 | I40: 129 | K40: 174.1
A41: Расходы на обеспечение функций органов местного самоуправления | B41: 926 | C41: 01 | D41: 04 | E41: 01 | F41: 1 | G41: 01 | H41: 41120 | K41: =K42+K43+K44+K45+K46 -> 167.9
A42: Иные выплаты персоналу государственных(муниципальных) органов, за исключением фонда оплаты труда | B42: 926 | C42: 01 | D42: 04 | E42: 01 | F42: 1 | G42: 01 | H42: 41120 | I42: 122
...

Sheet Лист3
F2: Приложение №4
F3: к Постановлению 43 от 20.07.2020г. Администрации Сабанчеевского сельского поселения "Об исполнении бюджета Сабанчеевского сельского поселения за 2 квартал 2020г"
B5: Распределение бюджетных ассигнований бюджета Сабанчеевского сельского поселения по целевым статьям (государственным программам, муниципальным программам и непрограммным направлениям деятельности), группам (группам и подгруппам) видов расходов классификации расходов бюджетов, а также по разделам и подразделам классификации расходов бюджетов за 2 квартал 2020 года
B7: Наименование | C7: ЦСР | G7: Рз | H7: ПРз | I7: Адм | J7: 2020 год
B8: Муниципальная программа Сабанчеевского сельского поселения "Повышение эффективности муниципального управления Сабанчеевского сельского поселения на 2016-2024 годы" | C8: 01 | D8: 0 | J8: =J9 -> 1241.8
B9: Подпрограмма "Обеспечение деятельности Администрации Сабанчеевского сельского поселения" | C9: 01 | D9: 1 | J9: =J10 -> 1241.8
B10: Основное мероприятие "Обеспечение деятельности Администрации Сабанчеевского сельского поселения" | C10: 01 | D10: 1 | E10: 01 | J10: =J11+J24+J36+J20+J32 -> 1241.8
B11: Расходы, связанные с муниципальным управлением | C11: 01 | D11: 1 | E11: 01 | F11: 41000 | J11: =J12+J16+J28 -> 1041.3
B12: Расходы на выплаты по оплате труда работников органов местного самоуправления | C12: 01 | D12: 1 | E12: 01 | F12: 41110 | J12: =J13 -> 689.2
B13: Общегосударственные вопросы | C13: 01 | D13: 1 | E13: 01 | F13: 41110 | G13: 01 | J13: =J14 -> 689.2
B14: Функционирование Правительства Российской Федерации, высших исполнительных органов государственной власти субъектов Российской Федерации, местных администраций | C14: 01 | D14: 1 | E14: 01 | F14: 41110 | G14: 01 | H14: 04 | J14: =J15 -> 689.2
B15: Администрация Сабанчеевского сельского поселения | C15: 01 | D15: 1 | E15: 01 | F15: 41110 | G15: 01 | H15: 04 | I15: 926 | J15: 689.2
B16: Расходы на обеспечение функций органов местного самоуправления | C16: 01 | D16: 1 | E16: 01 | F16: 41120 | J16: =J17 -> 168
B17: Общегосударственные вопросы | C17: 01 | D17: 1 | E17: 01 | F17: 41120 | G17: 01 | J17: =J18 -> 168
B18: Функционирование Правительства Российской Федерации, высших исполнительных органов государственной власти субъектов Российской Федерации, местных администраций | C18: 01 | D18: 1 | E18: 01 | F18: 41120 | G18: 01 | H18: 04 | J18: =J19 -> 168
B19: Администрация Сабанчеевского сельского поселения | C19: 01 | D19: 1 | E19: 01 | F19: 41120 | G19: 01 | H19: 04 | I19: 926 | J19: 168
B20: Субсидии на софинансирование расходных обязательств по финансовому обеспечению деятельности органов местного самоуправления и муниципальных учреждений | C20: 01 | D20: 1 | E20: 01 | F20: 44205 | J20: =J21 -> 200.5
B21: Общегосударственные вопросы | C21: 01 | D21: 1 | E21: 01 | F21: 44205 | G21: 01 | J21: =J22 -> 200.5
B22: Функционирование Правительства Российской Федерации, высших исполнительных органов государственной власти субъектов Российской Федерации, местных администраций | C22: 01 | D22: 1 | E22: 01 | F22: 44205 | G22: 01 | H22: 04 | J22: =J23 -> 200.5
B23: Администрация Сабанчеевского сельского поселения | C23: 01 | D23: 1 | E23: 01 | F23: 44205 | G23: 01 | H23: 04 | I23: 926 | J23: 200.5
B24: Софинансирование расходных обязательств поселений по финансовому обеспечению деятельности муниципальных казенных учреждений и финансовому обеспечению выполнения муниципального задания бюджетными и автономными муниципальными учреждениями | C24: 01 | D24: 1 | E24: 01 | F24: 76010 | J24: =J25 -> 0
B25: Общегосударственные вопросы | C25: 01 | D25: 1 | E25: 01 | F25: 76010 | G25: 01 | J25: =J26 -> 0
B26: Функционирование Правительства Российской Федерации, высших исполнительных органов государственной власти субъектов Российской Федерации, местных администраций | C26: 01 | D26: 1 | E26: 01 | F26: 76010 | G26: 01 | H26: 04 | J26: =J27 -> 0
B27: Администрация Сабанчеевского сельского поселения | C27: 01 | D27: 1 | E27: 01 | F27: 76010 | G27: 01 | H27: 04 | I27: 926
B28: Расходы на выплаты по оплате труда Главы местной администрации (исполнительно-распорядительного органа муниципального образования) | C28: 01 | D28: 1 | E28: 01 | F28: 41150 | J28: =J29 -> 184.1
B29: Общегосударственные вопросы | C29: 01 | D29: 1 | E29: 01 | F29: 41150 | G29: 01 | J29: =J30 -> 184.1
B30: Глава местной администрации (исполнительно-распорядительного органа муниципального образования) | C30: 01 | D30: 1 | E30: 01 | F30: 41150 | G30: 01 | H30: 02 | J30: =J31 -> 184.1
B31: Администрация Сабанчеевского сельского поселения | C31: 01 | D31: 1 | E31: 01 | F31: 41150 | G31: 01 | H31: 02 | I31: 926 | J31: 184.1
B32: Субсидии на софинансирование расходных обязательств по финансовому обеспечению деятельности органов местного самоуправления и муниципальных учреждений | C32: 01 | D32: 1 | E32: 01 | F32: 44205 | J32: =J33 -> 0
B33: Общегосударственные вопросы | C33: 01 | D33: 1 | E33: 01 | F33: 44205 | G33: 01 | J33: =J34 -> 0
B34: Глава местной администрации (исполнительно-распорядительного органа муниципального образования) | C34: 01 | D34: 1 | E34: 01 | F34: 44205 | G34: 01 | H34: 02 | J34: =J35 -> 0
B35: Администрация Сабанчеевского сельского поселения | C35: 01 | D35: 1 | E35: 01 | F35: 44205 | G35: 01 | H35: 02 | I35: 909
B36: Софинансирование расходных обязательств поселений по финансовому обеспечению деятельности муниципальных казенных учреждений и финансовому обеспечению выполнения муниципального задания бюджетными и автономными муниципальными учреждениями | C36: 01 | D36: 1 | E36: 01 | F36: 76010 | J36: =J37 -> 0
B37: Общегосударственные вопросы | C37: 01 | D37: 1 | E37: 01 | F37: 76010 | G37: 01 | J37: =J38 -> 0
B38: Глава местной администрации (исполнительно-распорядительного органа муниципального образования) | C38: 01 | D38: 1 | E38: 01 | F38: 76010 | G38: 01 | H38: 02 | J38: =J39 -> 0
B39: Администрация Сабанчеевского сельского поселения | C39: 01 | D39: 1 | E39: 01 | F39: 76010 | G39: 01 | H39: 02 | I39: 926
B40: Муниципальная программа Сабанчеевскогоо сельского поселения "Комплексное развитие сельских территорий Сабанчеевского сельского поселения на 2020-2025 годы" | C40: 22 | D40: 2 | J40: =J41+J47+J52+J57+J62 -> 162.9
B41: Основное мероприятие "Организация мероприятий по благоустройству территории сельского поселения" | C41: 22 | D41: 2 | E41: 01 | J41: =J42 -> 162.9
B42: Мероприятия по благоустройству территорий городских округов и поселений | C42: 22 | D42: 2 | E42: 01 | F42: 43000 | J42: =J43 -> 162.9
B43: Уличное освещение | C43: 22 | D43: 2 | E43: 01 | F43: 43010 | J43: =J44 -> 162.9
...

Sheet Лист4
A1: Отчет о численности муниципальных служащих Сабанчеевского сельского поселения Атяшевского муниципального района Республики Мордовия и фактических затратах на их денежное содержание за 2 квартал 2020 г.
A3: Категория получателей бюджетных средств | B3: Численность | C3: Фактические затраты (тыс.руб.)
A4: Муниципальные служащие | B4: 6 | C4: 839.5
A5: Всего: | B5: 6 | C5: 839.5

Sheet Доходы прил 1
B1: Приложение № 1
B2: к Постановлению 43 от 20.07.2020г. Администрации Сабанчеевского сельского поселения "Об исполнении бюджета Сабанчеевского сельского поселения за 2 квартал 2020г"
A4: Фактическое поступление доходов бюджета Администрации Сабанчеевского селского поселения за 1 полугодие 2020 год по кодам классификации доходов бюджетов
A6: Наименование показателя | B6: Код дохода по бюджетной классификации | C6: Исполнение (тыс.руб)
A7: Доходы бюджета - всего | B7: х | C7: 2179.4
A8: в том числе:
A9: Налоговые и неналоговые доходы | B9: 000 1000000000 0000 000
A10: Налог на доходы физических лиц с доходов, источником которых является налоговый агент, за исключением доходов, в отношении которых исчисление и уплата налога осуществляются в соответствии со статьями 227, 227.1 и 228 Налогового кодекса Российской Федерации (перерасчеты, недоимка и задолженность по соответствующему платежу, в том числе по отмененному) | B10: 92618210102010010000110 | C10: 61.2
A11: Налог на доходы физических лиц | B11: 000 1010200001 0000 110 | C11: =[1]Доходы!AC20/1000 -> 64130.964
A12: Налог на доходы физических лиц с доходов, источником которых является налоговый агент, за исключением доходов, в отношении которых исчисление и уплата налога осуществляются в соответствии со статьями 227, 227.1 и 228 Налогового кодекса Российской Федерации | B12: 000 1010201001 0000 110 | C12: =[1]Доходы!AC21/1000 -> 63815.531
A13: Налог на доходы физических лиц с доходов, полученных от осуществления деятельности физическими лицами, зарегистрированными в качестве индивидуальных предпринимателей, нотариусов, занимающихся частной практикой, адвокатов, учредивших адвокатские кабинеты, и других лиц, занимающихся частной практикой в соответствии со статьей 227 Налогового кодекса Российской Федерации | B13: 000 1010202001 0000 110 | C13: =[1]Доходы!AC22/1000 -> 104.12563
A14: Налог на доходы физических лиц с доходов, полученных физическими лицами в соответствии со статьей 228 Налогового кодекса Российской Федерации | B14: 000 1010203001 0000 110 | C14: =[1]Доходы!AC23/1000 -> 217.42658
A15: Налог на доходы физических лиц в виде фиксированных авансовых платежей с доходов, полученных физическими лицами, являющимися иностранными гражданами, осуществляющими трудовую деятельность по найму на основании патента в соответствии со статьей 227.1 Налогового кодекса Российской Федерации | B15: 000 1010204001 0000 110 | C15: =[1]Доходы!AC24/1000 -> 5.4405
A16: Налог на доходы физических лиц с сумм прибыли контролируемой иностранной компании, полученной физическими лицами, признаваемыми контролирующими лицами этой компании | B16: 000 1010205001 0000 110 | C16: =[1]Доходы!AC25/1000 -> -11.5596
A17: Акцизы по подакцизным товарам (продукции), производимым на территории Российской Федерации | B17: 000 1030200001 0000 110 | C17: =[1]Доходы!AC27/1000 -> 5714.9534
A18: Доходы от уплаты акцизов на дизельное топливо, подлежащие распределению между бюджетами субъектов Российской Федерации и местными бюджетами с учетом установленных дифференцированных нормативов отчислений в местные бюджеты | B18: 000 1030223001 0000 110 | C18: =[1]Доходы!AC28/1000 -> 2601.3505
A19: Доходы от уплаты акцизов на дизельное топливо, подлежащие распределению между бюджетами субъектов Российской Федерации и местными бюджетами с учетом установленных дифференцированных нормативов отчислений в местные бюджеты (по нормативам, установленным Федеральным законом о федеральном бюджете в целях формирования дорожных фондов субъектов Российской Федерации) | B19: 000 1030223101 0000 110 | C19: =[1]Доходы!AC29/1000 -> 2601.3505
A20: Доходы от уплаты акцизов на моторные масла для дизельных и (или) карбюраторных (инжекторных) двигателей, подлежащие распределению между бюджетами субъектов Российской Федерации и местными бюджетами с учетом установленных дифференцированных нормативов отчислений в местные бюджеты | B20: 000 1030224001 0000 110 | C20: =[1]Доходы!AC30/1000 -> 19.12061
A21: Доходы от уплаты акцизов на моторные масла для дизельных и (или) карбюраторных (инжекторных) двигателей, подлежащие распределению между бюджетами субъектов Российской Федерации и местными бюджетами с учетом установленных дифференцированных нормативов отчислений в местные бюджеты (по нормативам, установленным Федеральным законом о федеральном бюджете в целях формирования дорожных фондов субъектов Российской Федерации) | B21: 000 1030224101 0000 110 | C21: =[1]Доходы!AC31/1000 -> 19.12061
A22: Доходы от уплаты акцизов на автомобильный бензин, подлежащие распределению между бюджетами субъектов Российской Федерации и местными бюджетами с учетом установленных дифференцированных нормативов отчислений в местные бюджеты | B22: 000 1030225001 0000 110 | C22: =[1]Доходы!AC32/1000 -> 3475.4131
A23: Доходы от уплаты акцизов на автомобильный бензин, подлежащие распределению между бюджетами субъектов Российской Федерации и местными бюджетами с учетом установленных дифференцированных нормативов отчислений в местные бюджеты (по нормативам, установленным Федеральным законом о федеральном бюджете в целях формирования дорожных фондов субъектов Российской Федерации) | B23: 000 1030225101 0000 110 | C23: =[1]Доходы!AC33/1000 -> 3475.4131
A24: Доходы от уплаты акцизов на прямогонный бензин, подлежащие распределению между бюджетами субъектов Российской Федерации и местными бюджетами с учетом установленных дифференцированных нормативов отчислений в местные бюджеты | B24: 000 1030226001 0000 110 | C24: =[1]Доходы!AC34/1000 -> -380.93088
A25: Доходы от уплаты акцизов на прямогонный бензин, подлежащие распределению между бюджетами субъектов Российской Федерации и местными бюджетами с учетом установленных дифференцированных нормативов отчислений в местные бюджеты (по нормативам, установленным Федеральным законом о федеральном бюджете в целях формирования дорожных фондов субъектов Российской Федерации) | B25: 000 1030226101 0000 110 | C25: =[1]Доходы!AC35/1000 -> -380.93088
A26: единый сельхоз налог, взимаемый с налогоплательщиков, выбравших в качестве объекта налогообложения доходы, уменьшенные на величину расходов | B26: 18210503010011000110 | C26: 0
A27: Единый налог на вмененный доход для отдельных видов деятельности | B27: 000 1050200002 0000 110 | C27: =[1]Доходы!AC37/1000 -> 5932.0138
A28: Единый налог на вмененный доход для отдельных видов деятельности | B28: 000 1050201002 0000 110 | C28: =[1]Доходы!AC38/1000 -> 5929.0475
A29: Единый налог на вмененный доход для отдельных видов деятельности (за налоговые периоды, истекшие до 1 января 2011 года) | B29: 000 1050202002 0000 110 | C29: =[1]Доходы!AC39/1000 -> 2.96626
A30: Единый сельскохозяйственный налог | B30: 000 1050300001 0000 110 | C30: =[1]Доходы!AC40/1000 -> 1067.1582
A31: Единый сельскохозяйственный налог | B31: 000 1050301001 0000 110 | C31: =[1]Доходы!AC41/1000 -> 1067.1582
A32: Единый сельскохозяйственный налог (за налоговые периоды, истекшие до 1 января 2011 года) | B32: 000 1050302001 0000 110 | C32: =[1]Доходы!AC42/1000 -> 7e-05
A33: Налог, взимаемый в связи с применением патентной системы налогообложения | B33: 000 1050400002 0000 110 | C33: =[1]Доходы!AC43/1000 -> 72.6254
A34: Налог, взимаемый в связи с применением патентной системы налогообложения, зачисляемый в бюджеты муниципальных районов 5 | B34: 000 1050402002 0000 110 | C34: =[1]Доходы!AC44/1000 -> 72.6254
A35: Налог на имущество физических лиц | B35: 1821060103010000110 | C35: 4.3
A36: Государственная пошлина по делам, рассматриваемым в судах общей юрисдикции, мировыми судьями | B36: 000 1080300001 0000 110 | C36: =[1]Доходы!AC57/1000 -> 1388.5963
A37: Государственная пошлина по делам, рассматриваемым в судах общей юрисдикции, мировыми судьями (за исключением Верховного Суда Российской Федерации) | B37: 000 1080301001 0000 110 | C37: =[1]Доходы!AC58/1000 -> 1388.5963
A38: Государственная пошлина за государственную регистрацию, а также за совершение прочих юридически значимых действий | B38: 000 1080700001 0000 110 | C38: =[1]Доходы!AC59/1000 -> 610.25
A39: Государственная пошлина за совершение действий, связанных с лицензированием, с проведением аттестации в случаях, если такая аттестация предусмотрена законодательством Российской Федерации | B39: 000 1080708001 0000 110 | C39: =[1]Доходы!AC60/1000 -> 4.25
A40: Государственная пошлина за совершение действий, связанных с лицензированием, с проведением аттестации в случаях, если такая аттестация предусмотрена законодательством Российской Федерации, зачисляемая в бюджеты субъектов Российской Федерации | B40: 000 1080708201 0000 110 | C40: =[1]Доходы!AC61/1000 -> 4.25
A41: Государственная пошлина за государственную регистрацию транспортных средств и иные юридически значимые действия, связанные с изменениями и выдачей документов на транспортные средства, регистрационных знаков, водительских удостоверений | B41: 000 1080714001 0000 110 | C41: =[1]Доходы!AC62/1000 -> 606
A42: Государственная пошлина за совершение действий уполномоченными органами исполнительной власти субъектов Российской Федерации, связанных с выдачей документов о проведении государственного технического осмотра тракторов, самоходных дорожно-строительных и иных самоходных машин и прицепов к ним, государственной регистрацией мототранспортных средств, прицепов, тракторов, самоходных дорожно-строительных и иных самоходных машин, выдачей удостоверений тракториста-машиниста (тракториста), временных удостоверений на право управления самоходными машинами, в том числе взамен утраченных или пришедших в негодность | B42: 000 1080714201 0000 110 | C42: =[1]Доходы!AC63/1000 -> 606
...
