Workbook
Name А1: приложение4!$B:$B

Sheet приложение1
B1: Приложение 1 к решению Совета депутатов Аловского сельского поселения Атяшевского муниципального района республики Мордовия "Об исполнении бюджета Аловского сельского поселения за 2021 год" №5 от 30 мая 2022г
A3: Фактическое поступление доходов бюджета Аловского сельского поселения за 2021 год по кодам классификации доходов бюджетов
A5: Наименование | B5: Код дохода по бюджетной классификации | C5: Бюджеты сельских поселений(план) | D5: Бюджеты сельских поселений(факт) | E5: % выполнения
A6: показателя
A7: Доходы бюджета - всего | B7: х | C7: =C9+C16 -> 2661.2 | D7: =D9+D16 -> 3237.2 | E7: =D7*100/C7 -> 121.64437
A8: в том числе:
A9: Налоговые и неналоговые доходы | B9: 000 1000000000 0000 000 | C9: =C10+C11+C12+C13+C14+C15 -> 942.9 | D9: =D10+D11+D12+D13+D14+D15 -> 1518.9 | E9: =D9*100/C9 -> 161.08813
A10: Налоги на прибыль, доходы | B10: 000 1010000000 0000 000 | C10: 122.5 | D10: 121.4 | E10: =D10*100/C10 -> 99.102041
A11: Налоги на совокупный доход | B11: 000 1050000000 0000 000 | C11: 0.5 | D11: 0.4 | E11: =D11*100/C11 -> 80
A12: Налог на имущество | B12: 000 1060000000 0000 000 | C12: 773 | D12: 648 | E12: =D12*100/C12 -> 83.829237
A13: Доходы от использования имущества, находящегося в государственной и муниципальной собственности | B13: 000 1110000000 0000 000 | C13: 46.9 | D13: 68 | E13: =D13*100/C13 -> 144.98934
A14: Доходы от продажи материальных и нематериальных активов | B14: 000 1140000000 0000 000 | C14: 0 | D14: 574 | E14: 0
A15: Прочие неналоговые доходы | B15: 000 1170000000 0000 000 | C15: 0 | D15: 107.1 | E15: 0
A16: Безвозмездные поступления | B16: 000 2000000000 0000 000 | C16: =C17 -> 1718.3 | D16: =D17 -> 1718.3 | E16: =D16*100/C16 -> 100
A17: Безвозмездные поступления от других бюджетов бюджетной системы Российской Федерации | B17: 000 2020000000 0000 000 | C17: =SUM(C18:C21) -> 1718.3 | D17: =SUM(D18:D21) -> 1718.3 | E17: =D17*100/C17 -> 100
A18: Дотации бюджетам бюджетной системы Российской Федерации | B18: 000 2021000000 0000 150 | C18: 517 | D18: 517 | E18: =D18*100/C18 -> 100
A19: Субсидии бюджетам бюджетной системы Российской Федерации (межбюджетные субсидии) | B19: 000 2022000000 0000 150 | C19: 584.1 | D19: 584.1 | E19: =D19*100/C19 -> 100
A20: Субвенции бюджетам бюджетной системы Российской Федерации | B20: 000 2023000000 0000 150 | C20: 87.1 | D20: 87.1 | E20: =D20*100/C20 -> 100
A21: Иные межбюджетные трансферты | B21: 000 2024000000 0000 150 | C21: 530.1 | D21: 530.1 | E21: =D21*100/C21 -> 100

Sheet приложение3
C1: Приложение 3 к решению Совета депутатов Аловского сельского поселения Атяшевского муниципального района Республики Мордовия "Об исполнении бюджета Аловского сельского поселения за 2021 год" №5 от 30 мая 2022г
A3: Распределение расходов Аловского сельского поселения за 2021 год по разделам и подразделам функциональной классификации расходов бюджетов
A4: Наименование | B4: Код расхода по бюджетной классификации | C4: Бюджеты сельских поселений (план) | D4: Бюджеты сельских поселений (факт) | E4: % выпол-нения
A5: показателя
A6: Расходы бюджета - всего | B6: х | C6: =C8+C14+C16+C19+C22+C24+C26 -> 2746.6 | D6: =D8+D14+D16+D19+D22+D24+D26 -> 2695.7 | E6: =D6*100/C6 -> 98.1468
A7: в том числе:
A8: Общегосударственные вопросы | B8: 000 0100 0000000000 000 | C8: =C9+C10+C11+C12+C13 -> 1704.6 | D8: =D9+D10+D11+D12+D13 -> 1679.5 | E8: =D8*100/C8 -> 98.527514
A9: Функционирование высшего должностного лица субъекта Российской Федерации и муниципального образования | B9: 000 0102 0000000000 000 | C9: =приложение4!C10 -> 465.2 | D9: =приложение4!D10 -> 465.2 | E9: =D9*100/C9 -> 100
A10: Функционирование Правительства Российской Федерации, высших исполнительных органов государственной власти субъектов Российской Федерации, местных администраций | B10: 000 0104 0000000000 000 | C10: =приложение4!C24 -> 1225 | D10: =приложение4!D24 -> 1206.8 | E10: =D10*100/C10 -> 98.514286
A11: Обеспечение проведения выборов и референдумов | B11: 000 0107 0000000000 000 | C11: =приложение4!C63 -> 2.3 | D11: =приложение4!D63 -> 2.3 | E11: =D11*100/C11 -> 100
A12: Резервные фонды | B12: 000 0111 0000000000 000 | C12: =приложение4!C69 -> 4.4 | D12: =приложение4!D69 -> 0 | E12: =D12*100/C12 -> 0
A13: Другие общегосударственные вопросы | B13: 000 0113 0000000000 000 | C13: =приложение4!C75 -> 7.7 | D13: =приложение4!D75 -> 5.2 | E13: =D13*100/C13 -> 67.532468
A14: Национальная оборона | B14: 000 0203 0000000000 000 | C14: =C15 -> 86.8 | D14: =D15 -> 86.8 | E14: =D14*100/C14 -> 100
A15: Мобилизационная и вневойсковая подготовка | B15: 000 0203 0000000000 000 | C15: =приложение4!C90 -> 86.8 | D15: =приложение4!D90 -> 86.8 | E15: =D15*100/C15 -> 100
A16: Национальная безопасность и правоохранительная деятельность | B16: 000 0300 0000000000 000 | C16: =C17+C18 -> 46.3 | D16: =D17+D18 -> 28.3 | E16: =D16*100/C16 -> 61.12311
A17: Защита населения и территории от чрезвычайных ситуаций природного и техногенного характера, гражданская оборона | B17: 000 0309 0000000000 000 | C17: =приложение4!C102 -> 28.3 | D17: =приложение4!D102 -> 28.3 | E17: =D17*100/C17 -> 100
A18: Защита населения и территории от чрезвычайных ситуаций природного и техногенного характера, пожарная безопасность | B18: 000 0310 0000000000 000 | C18: =приложение4!C113 -> 18 | D18: =приложение4!D113 -> 0
A19: Национальная экономика | B19: 000 0400 0000000000 000 | C19: =C20+C21 -> 150.7 | D19: =D20+D21 -> 150.7 | E19: =D19*100/C19 -> 100
A20: Дорожное хозяйство (дорожные фонды) | B20: 000 0409 0000000000 000 | C20: =приложение4!C121 -> 115.4 | D20: =приложение4!D121 -> 115.4 | E20: =D20*100/C20 -> 100
A21: Другие вопросы в области национальной экономики | B21: 000 0412 0000000000 000 | C21: =приложение4!C132 -> 35.3 | D21: =приложение4!D132 -> 35.3 | E21: =D21*100/C21 -> 100
A22: Жилищно-коммунальное хозяйство | B22: 000 0500 0000000000 000 | C22: =C23 -> 617.7 | D22: =D23 -> 609.9 | E22: =D22*100/C22 -> 98.737251
A23: Благоустройство | B23: 000 0503 0000000000 000 | C23: =приложение4!C145 -> 617.7 | D23: =приложение4!D145 -> 609.9 | E23: =D23*100/C23 -> 98.737251
A24: Охрана окружающей среды | B24: 000 0600 0000000000 000 | C24: =C25 -> 2.5 | D24: =D25 -> 2.5 | E24: =D24*100/C24 -> 100
A25: Охрана объектов растительного и животного мира и среды их обитания | B25: 000 0603 0000000000 000 | C25: =приложение4!C194 -> 2.5 | D25: =приложение4!D194 -> 2.5 | E25: =D25*100/C25 -> 100
A26: Социальная политика | B26: 000 1000 0000000000 000 | C26: =C27 -> 138 | D26: =D27 -> 138 | E26: =D26*100/C26 -> 100
A27: Пенсионное обеспечение | B27: 000 1001 0000000000 000 | C27: =приложение4!C202 -> 138 | D27: =приложение4!D202 -> 138 | E27: =D27*100/C27 -> 100

Sheet приложение 2
B1: Приложение 2 к решению Совета депутатов Аловского сельского поселения Атяшевского муниципального района Республики Мордовия "Об исполнении бюджета Аловского сельского поселения за 2021 год" №5 от 30 мая 2022г
A3: Фактическое поступление доходов бюджета Аловского сельского поселения за 2021 год по кодам видов доходов, подвидов доходов, классификации операций сектора государственного управления
A5: Наименование показателя | B5: Код дохода по бюджетной классификации | C5: Бюджеты сельских поселений (план) | D5: Бюджеты сельских поселений (факт) | E5: % выполнения
A6: Доходы бюджета - всего | B6: х | C6: =C8+C35 -> 2661.2 | D6: =D8+D35 -> 3237.2 | E6: =D6/C6*100 -> 121.64437
A7: в том числе:
A8: Налоговые и неналоговые доходы | B8: 000 1000000000 0000 000 | C8: =C9+C14+C17+C21+C26+C30 -> 942.9 | D8: =D9+D14+D17+D21+D26+D30 -> 1518.9 | E8: =D8/C8*100 -> 161.08813
A9: Налоги на прибыль, доходы | B9: 000 1010000000 0000 000 | C9: =C10 -> 122.5 | D9: =D10 -> 121.5 | E9: =D9/C9*100 -> 99.183673
A10: Налог на доходы физических лиц | B10: 000 1010200001 0000 110 | C10: =SUM(C11:C13) -> 122.5 | D10: =SUM(D11:D13) -> 121.5 | E10: =D10/C10*100 -> 99.183673
A11: Налог на доходы физических лиц с доходов, источником которых является налоговый агент, за исключением доходов, в отношении которых исчисление и уплата налога осуществляются в соответствии со статьями 227, 227.1 и 228 Налогового кодекса Российской Федерации | B11: 000 1010201001 0000 110 | C11: 121.5 | D11: 120 | E11: =D11/C11*100 -> 98.765432
A12: Налог на доходы физических лиц с доходов, полученных от осуществления деятельности физическими лицами, зарегистрированными в качестве индивидуальных предпринимателей, нотариусов, занимающихся частной практикой, адвокатов, учредивших адвокатские кабинеты, и других лиц, занимающихся частной практикой в соответствии со статьей 227 Налогового кодекса Российской Федерации | B12: 000 1010202001 0000 110 | C12: 1 | D12: 1.5 | E12: =D12/C12*100 -> 150
A13: Налог на доходы физических лиц с доходов, полученных физическими лицами в соответствии со статьей 228 Налогового кодекса Российской Федерации | B13: 000 1010203001 0000 110 | E13: 0
A14: Налоги на совокупный доход | B14: 000 1050000000 0000 000 | C14: =C15 -> 0.5 | D14: =D15 -> 0.4 | E14: =D14/C14*100 -> 80
A15: Единый сельскохозяйственный налог | B15: 000 1050300001 0000 110 | C15: =C16 -> 0.5 | D15: =D16 -> 0.4 | E15: =D15/C15*100 -> 80
A16: Единый сельскохозяйственный налог | B16: 000 1050301001 0000 110 | C16: 0.5 | D16: 0.4 | E16: =D16/C16*100 -> 80
A17: Налог на имущество | B17: 000 1060000000 0000 000 | C17: =SUM(C18:C20) -> 773 | D17: =SUM(D18:D20) -> 648 | E17: =D17/C17*100 -> 83.829237
A18: Налог на имущество физических лиц, взимаемый по ставкам, применяемым к объектам налогообложения, расположенным в границах сельских поселений | B18: 000 1060103010 0000 110 | C18: 35 | D18: 32.9 | E18: =D18/C18*100 -> 94
A19: Земельный налог с организаций, обладающих земельным участком, расположенным в границах сельских поселений | B19: 000 1060603310 0000 000 | C19: 144.7 | D19: 102.2 | E19: =D19/C19*100 -> 70.628887
A20: Земельный налог с физических лиц, обладающих земельным участком, расположенным в границах сельских поселений | B20: 000 1060604310 0000 110 | C20: 593.3 | D20: 512.9 | E20: =D20/C20*100 -> 86.448677
A21: Доходы от использования имущества, находящегося в государственной и муниципальной собственности | B21: 000 1110000000 0000 000 | C21: =C22+C24 -> 46.9 | D21: =D22+D24 -> 67.9 | E21: =D21/C21*100 -> 144.77612
A22: Доходы, получаемые в виде арендной платы за земли после разграничения государственной собственности на землю, а также средства от продажи права на заключение договоров аренды указанных земельных участков (за исключением земельных участков бюджетных и автономных учреждений) | B22: 000 1110502000 0000 120 | C22: =C23 -> 18.5 | D22: =D23 -> 37 | E22: =D22/C22*100 -> 200
A23: Доходы, получаемые в виде арендной платы, а также средства от продажи права на заключение договоров аренды за земли, находящиеся в собственности сельских поселений (за исключением земельных участков муниципальных бюджетных и автономных учреждений) | B23: 000 1110502510 0000 120 | C23: 18.5 | D23: 37 | E23: =D23/C23*100 -> 200
A24: Доходы от сдачи в аренду имущества, составляющего государственную (муниципальную) казну (за исключением земельных участков) | B24: 000 1110507000 0000 120 | C24: =C25 -> 28.4 | D24: =D25 -> 30.9 | E24: =D24/C24*100 -> 108.80282
A25: Доходы от сдачи в аренду имущества, составляющего казну сельских поселений (за исключением земельных участков) | B25: 000 1110507510 0000 120 | C25: 28.4 | D25: 30.9 | E25: =D25/C25*100 -> 108.80282
A26: ДОХОДЫ ОТ ПРОДАЖИ МАТЕРИАЛЬНЫХ И НЕМАТЕРИАЛЬНЫХ АКТИВОВ | B26: 0001140000000 0000 000 | C26: 0 | D26: =D27 -> 574 | E26: 0
A27: Доходы от продажи земельных участков, находящихся в государственной и муниципальной собственности | B27: 000 1140600000 0000 430 | C27: 0 | D27: =D28 -> 574 | E27: 0
A28: Доходы от продажи земельных участков, государственная собственность на которые разграничена (за исключением земельных участков бюджетных и автономных учреждений) | B28: 000 1140602000 0000 430 | C28: 0 | D28: =D29 -> 574 | E28: 0
A29: Доходы от продажи земельных участков, находящихся в собственности сельских поселений (за исключением земельных участков муниципальных бюджетных и автономных учреждений) | B29: 000 1140602510 0000 430 | C29: 0 | D29: 574 | E29: 0
A30: ПРОЧИЕ НЕНАЛОГОВЫЕ ДОХОДЫ | B30: 000 11700000000000 000 | C30: 0 | D30: =D31+D33 -> 107.1 | E30: 0
A31: Прочие неналоговые доходы | B31: 000 11705000000000 180 | C31: 0 | D31: =D32 -> 12 | E31: 0
A32: Прочие неналоговые доходы бюджетов сельских поселений | B32: 000 11705050100000 180 | C32: 0 | D32: 12 | E32: 0
A33: Средства самообложения граждан | B33: 000 11714000000000 150 | C33: 0 | D33: =D34 -> 95.1 | E33: 0
A34: Средства самообложения граждан, зачисляемые в бюджеты сельских поселений | B34: 000 11714030100000 150 | C34: 0 | D34: 95.1 | E34: 0
A35: Безвозмездные поступления | B35: 000 2000000000 0000 000 | C35: =C36 -> 1718.3 | D35: =D36 -> 1718.3 | E35: =D35/C35*100 -> 100
A36: Безвозмездные поступления от других бюджетов бюджетной системы Российской Федерации | B36: 000 2020000000 0000 000 | C36: =C37+C42+C45+C49 -> 1718.3 | D36: =D37+D42+D45+D49 -> 1718.3 | E36: =D36/C36*100 -> 100
A37: Дотации бюджетам бюджетной системы Российской Федерации | B37: 000 2021000000 0000 150 | C37: =C38+C40 -> 517 | D37: =D38+D40 -> 517 | E37: =D37/C37*100 -> 100
A38: Дотации на выравнивание бюджетной обеспеченности | B38: 000 2021500100 0000 150 | C38: =C39 -> 95.6 | D38: =D39 -> 95.6 | E38: =D38/C38*100 -> 100
A39: Дотации бюджетам сельских поселений на выравнивание бюджетной обеспеченности | B39: 000 2021500110 0000 150 | C39: 95.6 | D39: 95.6 | E39: =D39/C39*100 -> 100
A40: Дотации бюджетам на поддержку мер по обеспечению сбалансированности бюджетов | B40: 000 20215002000000150 | C40: =C41 -> 421.4 | D40: =D41 -> 421.4 | E40: =D40/C40*100 -> 100
A41: Дотации бюджетам сельских поселений на поддержку мер по обеспечению сбалансированности бюджетов | B41: 000 20215002100000150 | C41: 421.4 | D41: 421.4 | E41: =D41/C41*100 -> 100
A42: Субсидии бюджетам бюджетной системы Российской Федерации (межбюджетные субсидии) | B42: 000 2022000000 0000 150 | C42: =C43 -> 584.1 | D42: =D43 -> 584.1 | E42: =D42/C42*100 -> 100
...

Sheet приложение4
C1: Приложение 4 к решению Совета депутатов Аловского сельского поселения Атяшевского муниципального района Республики мордовия "Об исполнении бюджета Аловского сельского поселения за 2021 год" №5 от 30 мая 2022г
A3: Ведомственная структура расходов бюджета Аловского сельского поселения за 2021 год
A5: Наименование показателя | B5: Код расхода по бюджетной классификации | C5: Бюджеты сельских поселений(план) | D5: Бюджеты сельских поселений (факт) | E5: % выполнения
A6: Расходы бюджета - всего | B6: x | C6: =C8 -> 2746.6 | D6: =D8 -> 2695.7 | E6: =D6/C6*100 -> 98.1468
A7: в том числе:
A8: Администрация Аловского сельского поселения Атяшевского муниципального района | B8: 90900000000000000000 | C8: =C9+C89+C101+C120+C144+C193+C201 -> 2746.6 | D8: =D9+D89+D101+D120+D144+D193+D201 -> 2695.7 | E8: =D8/C8*100 -> 98.1468
A9: Общегосударственные вопросы | B9: 90901000000000000000 | C9: =C10+C24+C63+C69+C75 -> 1704.6 | D9: =D10+D24+D63+D69+D75 -> 1679.5 | E9: =D9/C9*100 -> 98.527514
A10: Функционирование высшего должностного лица субъекта Российской Федерации и муниципального образования | B10: 90901020000000000000 | C10: =C11 -> 465.2 | D10: =D11 -> 465.2 | E10: =D10/C10*100 -> 100
A11: Муниципальная программа Аловского сельского поселения "Повышение эффективности муниципального управления Аловского сельского поселения " | B11: 90901020100000000000 | C11: =C12 -> 465.2 | D11: =D12 -> 465.2 | E11: =D11/C11*100 -> 100
A12: Подпрограмма "Обеспечение деятельности Администрации Аловского сельского поселения" | B12: 90901020110000000000 | C12: =C13 -> 465.2 | D12: =D13 -> 465.2 | E12: =D12/C12*100 -> 100
A13: Основное мероприятие "Обеспечение деятельности Администрации Аловского сельского поселения" | B13: 90901020110100000000 | C13: =C14+C19 -> 465.2 | D13: =D14+D19 -> 465.2 | E13: =D13/C13*100 -> 100
A14: Расходы на выплаты по оплате труда высшего должностного лица муниципального образования | B14: 90901020110141150000 | C14: =C15 -> 80.2 | D14: =D15 -> 80.2 | E14: =D14/C14*100 -> 100
A15: Расходы на выплаты персоналу в целях обеспечения выполнения функций государственными (муниципальными) органами, казенными учреждениями, органами управления государственными внебюджетными фондами | B15: 90901020110141150100 | C15: =C16 -> 80.2 | D15: =D16 -> 80.2 | E15: =D15/C15*100 -> 100
A16: Расходы на выплаты персоналу государственных (муниципальных) органов | B16: 90901020110141150120 | C16: =SUM(C17:C18) -> 80.2 | D16: =SUM(D17:D18) -> 80.2 | E16: =D16/C16*100 -> 100
A17: Фонд оплаты труда государственных (муниципальных) органов | B17: 90901020110141150121 | C17: 59.2 | D17: 59.2 | E17: =D17/C17*100 -> 100
A18: Взносы по обязательному социальному страхованию на выплаты денежного содержания и иные выплаты работникам государственных (муниципальных) органов | B18: 90901020110141150129 | C18: 21 | D18: 21 | E18: =D18/C18*100 -> 100
A19: Субсидии на софинансирование расходных обязательств по финансовому обеспечению деятельности органов местного самоуправления и муниципальных учреждений | B19: 90901020110144205000 | C19: =C20 -> 385 | D19: =D20 -> 385 | E19: =D19/C19*100 -> 100
A20: Расходы на выплаты персоналу в целях обеспечения выполнения функций государственными (муниципальными) органами, казенными учреждениями, органами управления государственными внебюджетными фондами | B20: 90901020110144205100 | C20: =C21 -> 385 | D20: =D21 -> 385 | E20: =D20/C20*100 -> 100
A21: Расходы на выплаты персоналу государственных (муниципальных) органов | B21: 90901020110144205120 | C21: =C22+C23 -> 385 | D21: =D22+D23 -> 385 | E21: =D21/C21*100 -> 100
A22: Фонд оплаты труда государственных (муниципальных) органов | B22: 90901020110144205121 | C22: 300 | D22: 300 | E22: =D22/C22*100 -> 100
A23: Взносы по обязательному социальному страхованию на выплаты денежного содержания и иные выплаты работникам государственных (муниципальных) органов | B23: 90901020110144205129 | C23: 85 | D23: 85 | E23: =D23/C23*100 -> 100
A24: Функционирование Правительства Российской Федерации, высших исполнительных органов государственной власти субъектов Российской Федерации, местных администраций | B24: 90901040000000000000 | C24: =C25+C54 -> 1225 | D24: =D25+D54 -> 1206.8 | E24: =D24/C24*100 -> 98.514286
A25: Муниципальная программа Аловского сельского поселения "Повышение эффективности муниципального управления Аловского сельского поселения" | B25: 90901040100000000000 | C25: =C26 -> 1209.7 | D25: =D26 -> 1191.5 | E25: =D25/C25*100 -> 98.495495
A26: Подпрограмма "Обеспечение деятельности Администрации Аловского сельского поселения" | B26: 90901040110000000000 | C26: =C27 -> 1209.7 | D26: =D27 -> 1191.5 | E26: =D26/C26*100 -> 98.495495
A27: Основное мероприятие "Обеспечение деятельности Администрации Аловского сельского поселения" | B27: 90901040110100000000 | C27: =C28+C33+C46 -> 1209.7 | D27: =D28+D33+D46 -> 1191.5 | E27: =D27/C27*100 -> 98.495495
A28: Расходы на выплаты по оплате труда работников органов местного самоуправления | B28: 90901040110141110000 | C28: =C29 -> 698.6 | D28: =D29 -> 698.6 | E28: =D28/C28*100 -> 100
A29: Расходы на выплаты персоналу в целях обеспечения выполнения функций государственными (муниципальными) органами, казенными учреждениями, органами управления государственными внебюджетными фондами | B29: 90901040110141110100 | C29: =C30 -> 698.6 | D29: =D30 -> 698.6 | E29: =D29/C29*100 -> 100
A30: Расходы на выплаты персоналу государственных (муниципальных) органов | B30: 90901040110141110120 | C30: =SUM(C31:C32) -> 698.6 | D30: =SUM(D31:D32) -> 698.6 | E30: =D30/C30*100 -> 100
A31: Фонд оплаты труда государственных (муниципальных) органов | B31: 90901040110141110121 | C31: 518.2 | D31: 518.2 | E31: =D31/C31*100 -> 100
A32: Взносы по обязательному социальному страхованию на выплаты денежного содержания и иные выплаты работникам государственных (муниципальных) органов | B32: 90901040110141110129 | C32: 180.4 | D32: 180.4 | E32: =D32/C32*100 -> 100
A33: Расходы на обеспечение функций органов местного самоуправления | B33: 90901040110141120000 | C33: =C34+C37+C41 -> 311.9 | D33: =D34+D37+D41 -> 293.7 | E33: =D33/C33*100 -> 94.164796
A34: Расходы на выплаты персоналу в целях обеспечения выполнения функций государственными (муниципальными) органами, казенными учреждениями, органами управления государственными внебюджетными фондами | B34: 90901040110141120100 | C34: =C35 -> 0.6 | D34: =D35 -> 0 | E34: =D34/C34*100 -> 0
A35: Расходы на выплаты персоналу государственных (муниципальных) органов | B35: 90901040110141120120 | C35: =C36 -> 0.6 | D35: =D36 -> 0 | E35: =D35/C35*100 -> 0
A36: Иные выплаты персоналу государственных (муниципальных) органов, за исключением фонда оплаты труда | B36: 90901040110141120122 | C36: 0.6 | D36: 0 | E36: =D36/C36*100 -> 0
A37: Закупка товаров, работ и услуг для обеспечения государственных (муниципальных) нужд | B37: 90901040110141120200 | C37: =C38 -> 309 | D37: =D38 -> 291.4 | E37: =D37/C37*100 -> 94.304207
A38: Иные закупки товаров, работ и услуг для обеспечения государственных (муниципальных) нужд | B38: 90901040110141120240 | C38: =C39+C40 -> 309 | D38: =D39+D40 -> 291.4 | E38: =D38/C38*100 -> 94.304207
A39: Прочая закупка товаров, работ и услуг | B39: 90901040110141120244 | C39: 251.4 | D39: 238.4 | E39: =D39/C39*100 -> 94.828958
A40: Закупка энергетических ресурсов | B40: 90901040110141120247 | C40: 57.6 | D40: 53 | E40: =D40/C40*100 -> 92.013889
A41: Иные бюджетные ассигнования | B41: 90901040110141120800 | C41: =C42 -> 2.3 | D41: =D42 -> 2.3 | E41: =D41/C41*100 -> 100
A42: Уплата налогов, сборов и иных платежей | B42: 90901040110141120850 | C42: =C43+C44+C45 -> 2.3 | D42: =D43+D44+D45 -> 2.3 | E42: =D42/C42*100 -> 100
...

Sheet приложение5
F2: 3. Источники финансирования дефицита бюджета | L2: Приложение 5 к решению Совета депутатов Аловского сельского поселения Атяшевского муниципального района республики Мордовия"Об исполнении бюджета Аловского сельского поселения за 2021 год" №5 от 30 мая 2022г
A4: Источники финансирования дефицита бюджета Аловского сельского поселения за 2021 год по кодам классификации источников финансирования дефицитов бюджетов
A6: Наименование показателя | B6: Код источника по бюджетной классификации | C6: Утвержденные бюджетные назначения | L6: Бюджеты сельских поселений (план) | M6: бюджеты городских поселений | N6: бюджеты сельских поселений | O6: бюджет территориального государственного внебюджетного фонда | S6: консолидированный бюджет субъекта Российской Федерации и территориального государственного внебюджетного фонда | T6: суммы, подлежащие исключению в рамках консолидированного бюджета субъекта Российской Федерации и бюджета территориаль- ного государственного внебюджетного фонда | U6: консолидированный бюджет субъекта Российской Федерации | V6: суммы, подлежащие исключению в рамках консо- лидированного бюджета субъекта Российской Федерации | W6: бюджет субъекта Российской Федерации | X6: бюджеты внутри- городских муниципальных образований городов федерального значения | Y6: бюджеты городских округов | Z6: бюджеты городских округов с внутри- городским делением | AA6: бюджеты внутри- городских районов | AB6: Бюджеты сельских поселений (факт) | AF6: % выполнения
A7: Источники финансирования дефицита бюджетов - всего | B7: х | C7: 19180924 | D7: - | E7: 19180924 | F7: - | G7: - | H7: - | I7: - | J7: - | K7: - | L7: =L13 -> 85.4 | M7: 5364900 | N7: 9285504.8 | O7: - | P7: Источники финансирования дефицита бюджетов - всего | Q7: 500 | R7: х | S7: -2975318.7 | T7: - | U7: -2975318.7 | V7: - | W7: - | X7: - | Y7: - | Z7: - | AA7: - | AB7: =AB13 -> -541.5 | AC7: -3461398.6 | AD7: 6242781.7 | AE7: - | AF7: =AB7/L7*100 -> -634.07494
A8: в том числе:
A9: источники внутреннего финансирования | B9: х | C9: -586614.3 | D9: - | E9: -586614.3 | F9: - | G9: - | H9: - | I9: - | J9: - | K9: - | L9: 0 | M9: 5364900 | N9: 9285504.8 | O9: - | P9: Источники финансирования дефицита бюджетов - всего | Q9: 502 | R9: х | S9: -2975316.7 | T9: - | U9: -2975316.7 | V9: - | W9: - | X9: - | Y9: - | Z9: - | AA9: - | AB9: 0 | AC9: -3461398.6 | AD9: 6242781.7 | AE9: - | AF9: 0
A10: из них:
A11: Бюджетные кредиты из других бюджетов бюджетной системы Российской Федерации | B11: 000 0103000000 0000 000 | C11: -812600 | D11: - | E11: -812600 | F11: -100000 | G11: - | H11: - | I11: - | J11: - | K11: - | L11: 0 | M11: 5364900 | N11: 9285504.8 | O11: - | P11: Источники финансирования дефицита бюджетов - всего | Q11: 504 | R11: х | S11: -2975314.7 | T11: - | U11: -2975314.7 | V11: - | W11: - | X11: - | Y11: - | Z11: - | AA11: - | AB11: 0 | AC11: -3461398.6 | AD11: 6242781.7 | AE11: - | AF11: 0
A12: Иные источники внутреннего финансирования дефицитов бюджетов | B12: 000 0106000000 0000 000 | C12: 225985.7 | D12: - | E12: 225985.7 | F12: 100000 | G12: - | H12: - | I12: - | J12: - | K12: - | L12: 0 | M12: 5364900 | N12: 9285504.8 | O12: - | P12: Источники финансирования дефицита бюджетов - всего | Q12: 509 | R12: х | S12: -2975309.7 | T12: - | U12: -2975309.7 | V12: - | W12: - | X12: - | Y12: - | Z12: - | AA12: - | AB12: 0 | AC12: -3461398.6 | AD12: 6242781.7 | AE12: - | AF12: 0
A13: изменение остатков средств | B13: х | C13: 19767538 | D13: - | E13: 19767538 | F13: - | G13: - | H13: - | I13: - | J13: - | K13: - | L13: =L14+L15 -> 85.4 | M13: 5364900 | N13: 9285504.8 | O13: - | P13: Источники финансирования дефицита бюджетов - всего | Q13: 518 | R13: х | S13: -2975300.7 | T13: - | U13: -2975300.7 | V13: - | W13: - | X13: - | Y13: - | Z13: - | AA13: - | AB13: =AB14+AB15 -> -541.5 | AC13: -3461398.6 | AD13: 6242781.7 | AE13: - | AF13: =AB13/L13*100 -> -634.07494
A14: Увеличение остатков средств бюджетов | B14: 000 0100000000 0000 500 | C14: -3.9019225e+08 | D14: - | E14: -3.9019225e+08 | F14: -10434382 | G14: - | H14: - | I14: - | J14: - | K14: - | L14: -2661.2 | M14: 5364900 | N14: 9285504.8 | O14: - | P14: Источники финансирования дефицита бюджетов - всего | Q14: 520 | R14: х | S14: -2975298.7 | T14: - | U14: -2975298.7 | V14: - | W14: - | X14: - | Y14: - | Z14: - | AA14: - | AB14: -3237.2 | AC14: -3461398.6 | AD14: 6242781.7 | AE14: - | AF14: =AB14/L14*100 -> 121.64437
A15: Уменьшение остатков средств бюджетов | B15: 000 0100000000 0000 600 | C15: 4.0995979e+08 | D15: - | E15: 4.0995979e+08 | F15: 10434382 | G15: - | H15: - | I15: - | J15: - | K15: - | L15: 2746.6 | M15: 5364900 | N15: 9285504.8 | O15: - | P15: Источники финансирования дефицита бюджетов - всего | Q15: 527 | R15: х | S15: -2975291.7 | T15: - | U15: -2975291.7 | V15: - | W15: - | X15: - | Y15: - | Z15: - | AA15: - | AB15: 2695.7 | AC15: -3461398.6 | AD15: 6242781.7 | AE15: - | AF15: =AB15/L15*100 -> 98.1468

Sheet приложение6
F3: 3. Источники финансирования дефицита бюджета | L3: Приложение 6 к решению Совета депутатов Аловского сельского поселения Атяшевского муниципального района республики Мордовия"Об исполнении бюджета Аловского сельского поселения за 2021 год" №5 от 30 мая 2022г
A5: Источники финансирования дефицита бюджета Аловского сельского поселения за 2021 год по кодам групп, подгрупп, статей, видов источников финансирования дефицитов бюджетов классификации операций сектора государственного управления, относящихся к источникам финансирования дефицитов бюджетов
A7: Наименование показателя | B7: Код источника по бюджетной классификации | C7: Утвержденные бюджетные назначения | L7: Бюджеты сельских поселений (план) | M7: бюджеты городских поселений | N7: бюджеты сельских поселений | O7: бюджет территориального государственного внебюджетного фонда | S7: консолидированный бюджет субъекта Российской Федерации и территориального государственного внебюджетного фонда | T7: суммы, подлежащие исключению в рамках консолидированного бюджета субъекта Российской Федерации и бюджета территориаль- ного государственного внебюджетного фонда | U7: консолидированный бюджет субъекта Российской Федерации | V7: суммы, подлежащие исключению в рамках консо- лидированного бюджета субъекта Российской Федерации | W7: бюджет субъекта Российской Федерации | X7: бюджеты внутри- городских муниципальных образований городов федерального значения | Y7: бюджеты городских округов | Z7: бюджеты городских округов с внутри- городским делением | AA7: бюджеты внутри- городских районов | AB7: Бюджеты сельских поселений(факт) | AF7: % выполнения
A8: Источники финансирования дефицита бюджетов - всего | B8: х | C8: 19180924 | D8: - | E8: 19180924 | F8: - | G8: - | H8: - | I8: - | J8: - | K8: - | L8: =L25 -> 85.4 | M8: 5364900 | N8: 9285504.8 | O8: - | P8: Источники финансирования дефицита бюджетов - всего | Q8: 500 | R8: х | S8: -2975318.7 | T8: - | U8: -2975318.7 | V8: - | W8: - | X8: - | Y8: - | Z8: - | AA8: - | AB8: =AB25 -> -541.5 | AC8: -3461398.6 | AD8: 6242781.7 | AE8: - | AF8: =AB8/L8*100 -> -634.07494
A9: в том числе:
A10: источники внутреннего финансирования | B10: х | C10: -586614.3 | D10: - | E10: -586614.3 | F10: - | G10: - | H10: - | I10: - | J10: - | K10: - | L10: =[1]Источники!M10/1000 -> 0 | M10: 5364900 | N10: 9285504.8 | O10: - | P10: Источники финансирования дефицита бюджетов - всего | Q10: 502 | R10: х | S10: -2975316.7 | T10: - | U10: -2975316.7 | V10: - | W10: - | X10: - | Y10: - | Z10: - | AA10: - | AB10: =[1]Источники!AC10/1000 -> 0 | AC10: -3461398.6 | AD10: 6242781.7 | AE10: - | AF10: 0
A11: из них:
A12: Бюджетные кредиты из других бюджетов бюджетной системы Российской Федерации | B12: 000 0103000000 0000 000 | C12: -812600 | D12: - | E12: -812600 | F12: -100000 | G12: - | H12: - | I12: - | J12: - | K12: - | L12: 0 | M12: 5364900 | N12: 9285504.8 | O12: - | P12: Источники финансирования дефицита бюджетов - всего | Q12: 504 | R12: х | S12: -2975314.7 | T12: - | U12: -2975314.7 | V12: - | W12: - | X12: - | Y12: - | Z12: - | AA12: - | AB12: 0 | AC12: -3461398.6 | AD12: 6242781.7 | AE12: - | AF12: 0
A13: Бюджетные кредиты от других бюджетов бюджетной системы Российской Федерации в валюте Российской Федерации | B13: 000 0103010000 0000 000 | C13: -812600 | D13: - | E13: -812600 | F13: -100000 | G13: - | H13: - | I13: - | J13: - | K13: - | L13: 0 | M13: 5364900 | N13: 9285504.8 | O13: - | P13: Источники финансирования дефицита бюджетов - всего | Q13: 505 | R13: х | S13: -2975313.7 | T13: - | U13: -2975313.7 | V13: - | W13: - | X13: - | Y13: - | Z13: - | AA13: - | AB13: 0 | AC13: -3461398.6 | AD13: 6242781.7 | AE13: - | AF13: 0
A14: Погашение бюджетных кредитов, полученных от других бюджетов бюджетной системы Российской Федерации в валюте Российской Федерации | B14: 000 0103010000 0000 800 | C14: -812600 | D14: - | E14: -812600 | F14: -100000 | G14: - | H14: - | I14: - | J14: - | K14: - | L14: 0 | M14: 5364900 | N14: 9285504.8 | O14: - | P14: Источники финансирования дефицита бюджетов - всего | Q14: 506 | R14: х | S14: -2975312.7 | T14: - | U14: -2975312.7 | V14: - | W14: - | X14: - | Y14: - | Z14: - | AA14: - | AB14: 0 | AC14: -3461398.6 | AD14: 6242781.7 | AE14: - | AF14: 0
A15: Погашение бюджетами муниципальных районов кредитов от других бюджетов бюджетной системы Российской Федерации в валюте Российской Федерации | B15: 000 0103010005 0000 810 | C15: -812600 | D15: - | E15: -812600 | F15: - | G15: - | H15: - | I15: - | J15: - | K15: - | L15: 0 | M15: 5364900 | N15: 9285504.8 | O15: - | P15: Источники финансирования дефицита бюджетов - всего | Q15: 507 | R15: х | S15: -2975311.7 | T15: - | U15: -2975311.7 | V15: - | W15: - | X15: - | Y15: - | Z15: - | AA15: - | AB15: 0 | AC15: -3461398.6 | AD15: 6242781.7 | AE15: - | AF15: 0
A16: Иные источники внутреннего финансирования дефицитов бюджетов | B16: 000 0106000000 0000 000 | C16: 225985.7 | D16: - | E16: 225985.7 | F16: 100000 | G16: - | H16: - | I16: - | J16: - | K16: - | L16: 0 | M16: 5364900 | N16: 9285504.8 | O16: - | P16: Источники финансирования дефицита бюджетов - всего | Q16: 509 | R16: х | S16: -2975309.7 | T16: - | U16: -2975309.7 | V16: - | W16: - | X16: - | Y16: - | Z16: - | AA16: - | AB16: 0 | AC16: -3461398.6 | AD16: 6242781.7 | AE16: - | AF16: 0
A17: Бюджетные кредиты, предоставленные внутри страны в валюте Российской Федерации | B17: 000 0106050000 0000 000 | C17: 225985.7 | D17: - | E17: 225985.7 | F17: 100000 | G17: - | H17: - | I17: - | J17: - | K17: - | L17: 0 | M17: 5364900 | N17: 9285504.8 | O17: - | P17: Источники финансирования дефицита бюджетов - всего | Q17: 510 | R17: х | S17: -2975308.7 | T17: - | U17: -2975308.7 | V17: - | W17: - | X17: - | Y17: - | Z17: - | AA17: - | AB17: 0 | AC17: -3461398.6 | AD17: 6242781.7 | AE17: - | AF17: 0
A18: Возврат бюджетных кредитов, предоставленных внутри страны в валюте Российской Федерации | B18: 000 0106050000 0000 600 | C18: 225985.7 | D18: - | E18: 225985.7 | F18: 100000 | G18: - | H18: - | I18: - | J18: - | K18: - | L18: 0 | M18: 5364900 | N18: 9285504.8 | O18: - | P18: Источники финансирования дефицита бюджетов - всего | Q18: 511 | R18: х | S18: -2975307.7 | T18: - | U18: -2975307.7 | V18: - | W18: - | X18: - | Y18: - | Z18: - | AA18: - | AB18: 0 | AC18: -3461398.6 | AD18: 6242781.7 | AE18: - | AF18: 0
A19: Возврат бюджетных кредитов, предоставленных юридическим лицам в валюте Российской Федерации | B19: 000 0106050100 0000 600 | C19: 225985.7 | D19: - | E19: 225985.7 | F19: - | G19: - | H19: - | I19: - | J19: - | K19: - | L19: 0 | M19: 5364900 | N19: 9285504.8 | O19: - | P19: Источники финансирования дефицита бюджетов - всего | Q19: 512 | R19: х | S19: -2975306.7 | T19: - | U19: -2975306.7 | V19: - | W19: - | X19: - | Y19: - | Z19: - | AA19: - | AB19: 0 | AC19: -3461398.6 | AD19: 6242781.7 | AE19: - | AF19: 0
A20: Возврат бюджетных кредитов, предоставленных юридическим лицам из бюджетов муниципальных районов в валюте Российской Федерации | B20: 000 0106050105 0000 640 | C20: 225985.7 | D20: - | E20: 225985.7 | F20: - | G20: - | H20: - | I20: - | J20: - | K20: - | L20: 0 | M20: 5364900 | N20: 9285504.8 | O20: - | P20: Источники финансирования дефицита бюджетов - всего | Q20: 513 | R20: х | S20: -2975305.7 | T20: - | U20: -2975305.7 | V20: - | W20: - | X20: - | Y20: - | Z20: - | AA20: - | AB20: 0 | AC20: -3461398.6 | AD20: 6242781.7 | AE20: - | AF20: 0
A21: Возврат бюджетных кредитов, предоставленных другим бюджетам бюджетной системы Российской Федерации в валюте Российской Федерации | B21: 000 0106050200 0000 600 | C21: - | D21: - | E21: - | F21: 100000 | G21: - | H21: - | I21: - | J21: - | K21: - | L21: 0 | M21: 5364900 | N21: 9285504.8 | O21: - | P21: Источники финансирования дефицита бюджетов - всего | Q21: 514 | R21: х | S21: -2975304.7 | T21: - | U21: -2975304.7 | V21: - | W21: - | X21: - | Y21: - | Z21: - | AA21: - | AB21: 0 | AC21: -3461398.6 | AD21: 6242781.7 | AE21: - | AF21: 0
A22: Возврат бюджетных кредитов, предоставленных другим бюджетам бюджетной системы Российской Федерации из бюджетов муниципальных районов в валюте Российской Федерации | B22: 000 0106050205 0000 640 | C22: - | D22: - | E22: - | F22: 100000 | G22: - | H22: - | I22: - | J22: - | K22: - | L22: 0 | M22: 5364900 | N22: 9285504.8 | O22: - | P22: Источники финансирования дефицита бюджетов - всего | Q22: 515 | R22: х | S22: -2975303.7 | T22: - | U22: -2975303.7 | V22: - | W22: - | X22: - | Y22: - | Z22: - | AA22: - | AB22: 0 | AC22: -3461398.6 | AD22: 6242781.7 | AE22: - | AF22: 0
A23: источники внешнего финансирования | B23: х | C23: - | D23: - | E23: - | F23: - | G23: - | H23: - | I23: - | J23: - | K23: -
A24: из них:
A25: изменение остатков средств | B25: х | C25: 19767538 | D25: - | E25: 19767538 | F25: - | G25: - | H25: - | I25: - | J25: - | K25: - | L25: =L26 -> 85.4 | M25: 5364900 | N25: 9285504.8 | O25: - | P25: Источники финансирования дефицита бюджетов - всего | Q25: 518 | R25: х | S25: -2975300.7 | T25: - | U25: -2975300.7 | V25: - | W25: - | X25: - | Y25: - | Z25: - | AA25: - | AB25: =AB26 -> -541.5 | AC25: -3461398.6 | AD25: 6242781.7 | AE25: - | AF25: =AB25/L25*100 -> -634.07494
A26: Изменение остатков средств на счетах по учету средств бюджетов | B26: 000 0105000000 0000 000 | C26: 19767538 | D26: - | E26: 19767538 | F26: - | G26: - | H26: - | I26: - | J26: - | K26: - | L26: =L27+L32 -> 85.4 | M26: 5364900 | N26: 9285504.8 | O26: - | P26: Источники финансирования дефицита бюджетов - всего | Q26: 519 | R26: х | S26: -2975299.7 | T26: - | U26: -2975299.7 | V26: - | W26: - | X26: - | Y26: - | Z26: - | AA26: - | AB26: =AB27+AB32 -> -541.5 | AC26: -3461398.6 | AD26: 6242781.7 | AE26: - | AF26: =AB26/L26*100 -> -634.07494
A27: Увеличение остатков средств бюджетов | B27: 000 0100000000 0000 500 | C27: -3.9019225e+08 | D27: - | E27: -3.9019225e+08 | F27: -10434382 | G27: - | H27: - | I27: - | J27: - | K27: - | L27: =L28 -> -2661.2 | M27: 5364900 | N27: 9285504.8 | O27: - | P27: Источники финансирования дефицита бюджетов - всего | Q27: 520 | R27: х | S27: -2975298.7 | T27: - | U27: -2975298.7 | V27: - | W27: - | X27: - | Y27: - | Z27: - | AA27: - | AB27: =AB28 -> -3237.2 | AC27: -3461398.6 | AD27: 6242781.7 | AE27: - | AF27: =AB27/L27*100 -> 121.64437
A28: увеличение остатков средств, всего | B28: х | C28: -3.9019225e+08 | D28: - | E28: -3.9019225e+08 | F28: -10434382 | G28: - | H28: - | I28: - | J28: - | K28: - | L28: =L29 -> -2661.2 | M28: 5364900 | N28: 9285504.8 | O28: - | P28: Источники финансирования дефицита бюджетов - всего | Q28: 521 | R28: х | S28: -2975297.7 | T28: - | U28: -2975297.7 | V28: - | W28: - | X28: - | Y28: - | Z28: - | AA28: - | AB28: =AB29 -> -3237.2 | AC28: -3461398.6 | AD28: 6242781.7 | AE28: - | AF28: =AB28/L28*100 -> 121.64437
A29: Увеличение прочих остатков средств бюджетов | B29: 000 0105020000 0000 500 | C29: -3.9019225e+08 | D29: - | E29: -3.9019225e+08 | F29: -10434382 | G29: - | H29: - | I29: - | J29: - | K29: - | L29: =L30 -> -2661.2 | M29: 5364900 | N29: 9285504.8 | O29: - | P29: Источники финансирования дефицита бюджетов - всего | Q29: 522 | R29: х | S29: -2975296.7 | T29: - | U29: -2975296.7 | V29: - | W29: - | X29: - | Y29: - | Z29: - | AA29: - | AB29: =AB30 -> -3237.2 | AC29: -3461398.6 | AD29: 6242781.7 | AE29: - | AF29: =AB29/L29*100 -> 121.64437
A30: Увеличение прочих остатков денежных средств бюджетов | B30: 000 0105020100 0000 510 | C30: -3.9019225e+08 | D30: - | E30: -3.9019225e+08 | F30: -10434382 | G30: - | H30: - | I30: - | J30: - | K30: - | L30: =L31 -> -2661.2 | M30: 5364900 | N30: 9285504.8 | O30: - | P30: Источники финансирования дефицита бюджетов - всего | Q30: 523 | R30: х | S30: -2975295.7 | T30: - | U30: -2975295.7 | V30: - | W30: - | X30: - | Y30: - | Z30: - | AA30: - | AB30: =AB31 -> -3237.2 | AC30: -3461398.6 | AD30: 6242781.7 | AE30: - | AF30: =AB30/L30*100 -> 121.64437
A31: Увеличение прочих остатков денежных средств бюджетов сельских поселений | B31: 000 0105020105 0000 510 | C31: -3.2984644e+08 | D31: - | E31: -3.2984644e+08 | F31: -2506550 | G31: - | H31: - | I31: - | J31: - | K31: - | L31: =приложение5!L14 -> -2661.2 | M31: 5364900 | N31: 9285504.8 | O31: - | P31: Источники финансирования дефицита бюджетов - всего | Q31: 524 | R31: х | S31: -2975294.7 | T31: - | U31: -2975294.7 | V31: - | W31: - | X31: - | Y31: - | Z31: - | AA31: - | AB31: =приложение5!AB14 -> -3237.2 | AC31: -3461398.6 | AD31: 6242781.7 | AE31: - | AF31: =AB31/L31*100 -> 121.64437
A32: Уменьшение остатков средств бюджетов | B32: 000 0100000000 0000 600 | C32: 4.0995979e+08 | D32: - | E32: 4.0995979e+08 | F32: 10434382 | G32: - | H32: - | I32: - | J32: - | K32: - | L32: =L33 -> 2746.6 | M32: 5364900 | N32: 9285504.8 | O32: - | P32: Источники финансирования дефицита бюджетов - всего | Q32: 527 | R32: х | S32: -2975291.7 | T32: - | U32: -2975291.7 | V32: - | W32: - | X32: - | Y32: - | Z32: - | AA32: - | AB32: =AB33 -> 2695.7 | AC32: -3461398.6 | AD32: 6242781.7 | AE32: - | AF32: =AB32/L32*100 -> 98.1468
A33: уменьшение остатков средств, всего | B33: х | C33: 4.0995979e+08 | D33: - | E33: 4.0995979e+08 | F33: 10434382 | G33: - | H33: - | I33: - | J33: - | K33: - | L33: =L34 -> 2746.6 | M33: 5364900 | N33: 9285504.8 | O33: - | P33: Источники финансирования дефицита бюджетов - всего | Q33: 528 | R33: х | S33: -2975290.7 | T33: - | U33: -2975290.7 | V33: - | W33: - | X33: - | Y33: - | Z33: - | AA33: - | AB33: =AB34 -> 2695.7 | AC33: -3461398.6 | AD33: 6242781.7 | AE33: - | AF33: =AB33/L33*100 -> 98.1468
A34: Уменьшение прочих остатков средств бюджетов | B34: 000 0105020000 0000 600 | C34: 4.0995979e+08 | D34: - | E34: 4.0995979e+08 | F34: 10434382 | G34: - | H34: - | I34: - | J34: - | K34: - | L34: =L35 -> 2746.6 | M34: 5364900 | N34: 9285504.8 | O34: - | P34: Источники финансирования дефицита бюджетов - всего | Q34: 529 | R34: х | S34: -2975289.7 | T34: - | U34: -2975289.7 | V34: - | W34: - | X34: - | Y34: - | Z34: - | AA34: - | AB34: =AB35 -> 2695.7 | AC34: -3461398.6 | AD34: 6242781.7 | AE34: - | AF34: =AB34/L34*100 -> 98.1468
A35: Уменьшение прочих остатков денежных средств бюджетов | B35: 000 0105020100 0000 610 | C35: 4.0995979e+08 | D35: - | E35: 4.0995979e+08 | F35: 10434382 | G35: - | H35: - | I35: - | J35: - | K35: - | L35: =L36 -> 2746.6 | M35: 5364900 | N35: 9285504.8 | O35: - | P35: Источники финансирования дефицита бюджетов - всего | Q35: 530 | R35: х | S35: -2975288.7 | T35: - | U35: -2975288.7 | V35: - | W35: - | X35: - | Y35: - | Z35: - | AA35: - | AB35: =AB36 -> 2695.7 | AC35: -3461398.6 | AD35: 6242781.7 | AE35: - | AF35: =AB35/L35*100 -> 98.1468
A36: Уменьшение прочих остатков денежных средств бюджетов сельских поселений | B36: 000 0105020105 0000 610 | C36: 3.2944229e+08 | D36: - | E36: 3.2944229e+08 | F36: 7927832.3 | G36: - | H36: - | I36: - | J36: - | K36: - | L36: =приложение5!L15 -> 2746.6 | M36: 5364900 | N36: 9285504.8 | O36: - | P36: Источники финансирования дефицита бюджетов - всего | Q36: 531 | R36: х | S36: -2975287.7 | T36: - | U36: -2975287.7 | V36: - | W36: - | X36: - | Y36: - | Z36: - | AA36: - | AB36: =приложение5!AB15 -> 2695.7 | AC36: -3461398.6 | AD36: 6242781.7 | AE36: - | AF36: =AB36/L36*100 -> 98.1468

Sheet Приложение7
B2: Приложение 7 к решению Совета депутатов Аловского сельского поселения Атяшевского муниципального района Республики Мордовия"Об исполнении бюджета Аловского сельского поселения за 2021 год" №5 от 30 мая 2022г
A7: Данные о численности муниципальных служащих Аловского сельского поселения и о расходах на оплату труда за 2021 год
A12: Категория получателей бюджетных средств | B12: Численность | C12: Фактические затраты (тыс.руб.)
A13: Муниципальные служащие | B13: 3 | C13: 1142.7
